BEGIN:VCALENDAR
VERSION:2.0
PRODID:-//SECA - ECPv6.15.20//NONSGML v1.0//EN
CALSCALE:GREGORIAN
METHOD:PUBLISH
X-WR-CALNAME:SECA
X-ORIGINAL-URL:https://seca.com.au
X-WR-CALDESC:Events for SECA
REFRESH-INTERVAL;VALUE=DURATION:PT1H
X-Robots-Tag:noindex
X-PUBLISHED-TTL:PT1H
BEGIN:VTIMEZONE
TZID:Australia/Sydney
BEGIN:STANDARD
TZOFFSETFROM:+1100
TZOFFSETTO:+1000
TZNAME:AEST
DTSTART:20240406T160000
END:STANDARD
BEGIN:DAYLIGHT
TZOFFSETFROM:+1000
TZOFFSETTO:+1100
TZNAME:AEDT
DTSTART:20241005T160000
END:DAYLIGHT
BEGIN:STANDARD
TZOFFSETFROM:+1100
TZOFFSETTO:+1000
TZNAME:AEST
DTSTART:20250405T160000
END:STANDARD
BEGIN:DAYLIGHT
TZOFFSETFROM:+1000
TZOFFSETTO:+1100
TZNAME:AEDT
DTSTART:20251004T160000
END:DAYLIGHT
BEGIN:STANDARD
TZOFFSETFROM:+1100
TZOFFSETTO:+1000
TZNAME:AEST
DTSTART:20260404T160000
END:STANDARD
BEGIN:DAYLIGHT
TZOFFSETFROM:+1000
TZOFFSETTO:+1100
TZNAME:AEDT
DTSTART:20261003T160000
END:DAYLIGHT
END:VTIMEZONE
BEGIN:VEVENT
DTSTART;VALUE=DATE:20250801
DTEND;VALUE=DATE:20250802
DTSTAMP:20260426T025850
CREATED:20240530T004710Z
LAST-MODIFIED:20260420T083602Z
UID:8761-1754006400-1754092799@seca.com.au
SUMMARY:NSW - Course Info & Enrol - Drain Cleaning Refresher on Friday\, 1 August 2025 (1 day)
DESCRIPTION:Drain Cleaning Training | Book Now with SECA\nMain Information\nMAXIMUM CLASS SIZE\n10 \nDURATION\n1 day – 8 am to 4 pm \nPRICE\n$410 \nLOCATION\n5/85 Alfred Road\, Chipping Norton NSW \nSECA CAR PARK AREA \n \nMSMWJ305 – Drain Cleaning Refresher\nCourse Description\nTraining provided by Asset Training (RTO No. 91255)\nPlease Note: \nAll training dates are tentative and subject to change depending on minimum class numbers being met.  If a class is re-scheduled\, we will notify you as soon as possible.  Once the date is confirmed an email will be sent confirming your enrolment. \nMSMWJ305 – Operate a drain cleaning system\nThe Drain Cleaning Operator Refresher course initially assesses a qualified operator’s competency in MSMWJ305\, generating a gap analysis (GA) to identify areas needing refreshment. The trainer then focuses on the GA content\, along with any updated legislation\, standards\, or new industry safe work practices. The operator undergoes a practical assessment\, and if successful\, is re-certified as competent. \nBrief outline of training\nAs per AS 4233.1-2013\, Drain Cleaning operators must undergo competency verification or refresher training every two years. This Refresher course assesses and updates operators on MSMWJ305\, along with any new industry standards or practices\, ensuring compliance and re-certification. Please note that while industry requires refresher training\, units of competency do not expire unless they are significantly changed. \nThe content of this Refresher course provides for the Drain Cleaning unit of competency MSMWJ305\, meeting the Australian Standard requirements. Any supporting units of competency listed on a trainee’s prior Statement of Attainment will be credited. \nWho should attend this course\nAll persons intending to work with high pressure water jet equipment classified in the Class B range of high pressure water pumps and require knowledge of the associated dangers and how to use HPWJ equipment safely. \nThis course is a prerequisite for those wanting to progress to High Pressure Water Jetting Operators along with 120 hours of supervised work. \nRecognition of prior learning\nOur RTO will recognise accredited training by other Registered Training Organisations\, work & life experience and previous training for the RPL process. \nApplications for recognition of prior learning should be made via the online enrolment form. \nRefresher training & Verification of competency\nRefresher training or VOC’s are required every 2 years. \nAssessment\nAssessment will consist of some written activities with multiple answer question format plus\, a practical assessment covering the use of equipment and ability. \nImportant information\nEvidence of prior training (Statement of Attainment / National Qualification) must be presented at the time of booking to undertake Drain Cleaning Refresher training. \nThe practical assessment portion of this course is physically demanding and requires simulated work practices to be performed in an appropriate work area. Please advise if you feel you may have difficulties. \nRequirements \n\nUSI Number (Get a USI here: https://www.usi.gov.au/students/get-a-usi)\nPhoto ID\nCasual clothing\nEnclosed shoes\nPPE for Practical: Hard Hat\, Safety Glasses or Goggles\, Face shield\, Hearing Protection\, Water resistant Gloves. (PPE Packs available from our sales counter)\n\n\nEnrolment Form\nComplete the Enrolment Form below to secure your spot in this course!
URL:https://seca.com.au/events/course-info-enrol-drain-cleaning-refresher-on-friday-1-august-2025-1-day/
LOCATION:SECA Head Office\, 5/85 Alfred Rd\, Chipping Norton\, NSW\, 2170\, Australia
CATEGORIES:NSW Training,Sewer and Camera Training | Book Now with SECA
ATTACH;FMTTYPE=image/jpeg:https://seca.com.au/wp-content/uploads/2022/10/Rioned-in-carpark-scaled.jpg
ORGANIZER;CN="SECA Academy":MAILTO:training@seca.com.au
END:VEVENT
BEGIN:VEVENT
DTSTART;VALUE=DATE:20250814
DTEND;VALUE=DATE:20250816
DTSTAMP:20260426T025850
CREATED:20250707T032504Z
LAST-MODIFIED:20260420T083718Z
UID:10368-1755129600-1755302399@seca.com.au
SUMMARY:Course Info & Enrol - Use High Pressure Water Jetting Equipment (HPWJ Assistant) on Thursday\, 14 August to Friday\, 15 August 2025 (2 days)
DESCRIPTION:Water Jetting Training — WA | Book Your Spot\nMain Information\nMAXIMUM CLASS SIZE\n10 \nDURATION\n2 days – 8 am to 4 pm \nPRICE\n$810 \nLOCATION\n5/85 Alfred Road\, Chipping Norton NSW \nSECA CAR PARK AREA \n \nMSMSS00017 – Use High Pressure Water Jetting Equipment (HPWJ)\nCourse Description\nTraining provided by Asset Training (RTO No. 91255)\nUse High Pressure Water Jetting Equipment\n\n\nMSMWJ202– Use high pressure water jetting equipment\nMSMWHS200 – Work safely\nMSMPER200 – Work in accordance with an issued permit\nMSMWHS110 – Follow emergency response procedures\n\nBrief outline of training\nThis course covers training for personnel new to high pressure water jetting and covers everything from equipment\, how to operate the equipment safely\, the dangers of HPWJ\, safe work practices and associated law\, work permits and emergency response practices. The end result producing an HPWJ Assistant that requires supervision but more than capable of carrying out high pressure water jet work. \nThis course is delivered in accordance with AS4233.1 2013 Part 1 High Pressure Water Jetting Systems Safe Operation and Maintenance and National Code of Conduct – Guide for managing Risks from High Pressure Water Jetting. \nWho should attend this course\nAll persons intending to work with high pressure water jet equipment classified in the Class B range of high pressure water pumps and require knowledge of the associated dangers and how to use HPWJ equipment safely. \nThis course is a prerequisite for those wanting to progress to High Pressure Water Jetting Operators along with 120 hours of supervised work. \nRecognition of prior learning\nAsset Training recognises accredited training by other Registered Training Organisations\, work & life experience and previous training for the RPL process. \nApplications for recognition of prior learning should be made via the online enrolment form. \nRefresher training & Verification of competency\nRefresher training or VOC’s are available for this course and are required every 2 years. \nAssessment\nAssessment will consist of some written activities with multiple choice and short answer questions plus\, a practical assessment covering the use of equipment and a practical assessment in high pressure water jetting. \nImportant information\nThe operation of Class B High Pressure Water Jetting Equipment requires mandatory accredited training for gun operators and for personnel responsible for the safe operation of equipment and personnel safety. \nRequirements \n\nPhoto ID\nLong pants and long sleeve shirt\nSteel cap boots\nPPE for Practical: Hard Hat\, Safety Glasses or Goggles\, Face shield\, Hearing Protection\, Water resistant Gloves. (PPE Packs available from our sales counter)\n\nAll HPWJ course equipment is provided. \n\nEnrolment Form\nComplete the Enrolment Form below to secure your spot in this course!
URL:https://seca.com.au/events/course-info-enrol-use-high-pressure-water-jetting-equipment-hpwj-assistant-on-thursday-14-august-to-friday-15-august-2025-2-days/
LOCATION:SECA Head Office\, 5/85 Alfred Rd\, Chipping Norton\, NSW\, 2170\, Australia
CATEGORIES:NSW Training,Sewer and Camera Training | Book Now with SECA
ATTACH;FMTTYPE=image/jpeg:https://seca.com.au/wp-content/uploads/2022/10/Rioned-in-carpark-scaled.jpg
ORGANIZER;CN="SECA Academy":MAILTO:training@seca.com.au
END:VEVENT
END:VCALENDAR